BEGIN:VCALENDAR
VERSION:2.0
PRODID:-//hacksw/handcal//NONSGML v1.0//EN
BEGIN:VEVENT
SUMMARY:CONGENIES : decouverte du mazet Lebrun
UID:c31b3f69-d540-44bd-bf29-d594138b162e
DTSTART:20260421T080000Z
DTEND:20260421T220000Z
LOCATION:Localisation   
CATEGORIES:Sportif
STATUS:
DESCRIPTION:<p><span style="font-size:16px;">Randonnee de 5.5 km, 50
 m de denivele</span></p>
 
 <p><span
 style="font-size:16px;">Deplacement : 44 km aller (45
 mn)</span></p>
 
 <p><span style="font-size:16px;">Frais de covoiturage
 : 24 € par vehicule</span></p>
 
 <p><span
 style="font-size:18px;"><span
 style="color:#e74c3c;"><strong>Rendez-vous Intermarche Pres d'Arenes
 a 10h00</strong></span></span></p>
 
 <p><em><span
 style="font-size:16px;"><span class="css-1o2qw4c"><span
 class="css-1m3lios"><span class="css-1m3lios">En Pays de Sommieres,
 il existe un bel endroit tres particulier dans les bois de Congenies
 🌳 qui intrigue les promeneurs 😉 Des rochers sculptes laissent
 paraitre des silhouettes tout a fait etonnantes. On se prete
 facilement au jeu pour les identifier. Il y a egalement un mazet
 typique de garrigue a
 terrasses.</span></span></span></span></em></p>
 
 <p> </p>
URL;VALUE=URI:https://damour.sportsregions.fr/evenements/2026/04/21/congenies-decouverte-du-mazet-lebrun-2371937
END:VEVENT
END:VCALENDAR
