BEGIN:VCALENDAR
VERSION:2.0
PRODID:-//hacksw/handcal//NONSGML v1.0//EN
BEGIN:VEVENT
SUMMARY:JONCELS : le Plo de Cambre
UID:b6ab1324-3d03-45d9-bbc8-4a5be76a9da0
DTSTART:20260503T070000Z
DTEND:20260503T220000Z
LOCATION:Localisation   
CATEGORIES:Sportif
STATUS:
DESCRIPTION:<p><span style="font-size:18px;"><span><span
 style="font-family:Calibri, sans-serif;">Randonnee de 13 km et 400 m
 de denivele.</span></span></span></p>
 
 <p><span
 style="font-size:18px;"><span><span style="font-family:Calibri,
 sans-serif;">Deplacement : 70 km
 aller</span></span></span></p>
 
 <p><span
 style="font-size:18px;"><span><span style="font-family:Calibri,
 sans-serif;">Frais de covoiturage : 42 € par
 vehicule</span></span></span></p>
 
 <p><span
 style="font-size:20px;"><span style="color:#e74c3c;"><strong><span
 style="font-family:Calibri, sans-serif;">Rendez-vous parking Auchan
 Celleneuve 9h</span></strong></span></span></p>
 
 <p><em><span
 style="font-size:18px;">Au depart du petit village de Joncels, nous
 monterons par un petit sentier suivi par une grande piste au Plo de
 Cambre d'ou nous pourrons admirer les paysages du Lodevois et des
 Monts d'Orb.</span></em></p>
 
 <p><em><span style="font-size:18px;">Au
 sommet nous aurons atteint le point culminant et la moitie de notre
 randonnee.</span></em></p>
 
 <p><em><span
 style="font-size:18px;">Notre retour se fera par un petit chemin en
 sous bois pour rejoindre le hameau de Joncelet et tout en suivant le
 Gravezon nous atteindrons Joncels.</span></em></p>
 
 <p> </p>
URL;VALUE=URI:https://damour.sportsregions.fr/evenements/2026/05/03/joncels-le-plo-de-cambre-2420461
END:VEVENT
END:VCALENDAR
