BEGIN:VCALENDAR
VERSION:2.0
PRODID:-//hacksw/handcal//NONSGML v1.0//EN
BEGIN:VEVENT
SUMMARY:PLAISSAN
UID:8a86c93f-6804-47a0-9a17-2d7b7adeaa9f
DTSTART:20260517T070000Z
DTEND:20260517T220000Z
LOCATION:Localisation   
CATEGORIES:Sportif
STATUS:
DESCRIPTION:<p><span style="font-size:18px;"><span><span
 style="font-family:Calibri, sans-serif;">Randonnee de 16 km et 200 m
 de denivele.</span></span></span></p>
 
 <p><span
 style="font-size:18px;"><span><span style="font-family:Calibri,
 sans-serif;">Deplacement : 40 km
 aller</span></span></span></p>
 
 <p><span
 style="font-size:18px;"><span><span style="font-family:Calibri,
 sans-serif;">Frais de covoiturage : 24 € par
 vehicule</span></span></span></p>
 
 <p><span
 style="font-size:20px;"><span style="color:#e74c3c;"><strong><span
 style="font-family:Calibri, sans-serif;">Rendez-vous parking Auchan
 Celleneuve 9h</span></strong></span></span></p>
 
 <div
 class="text-Mobile-C1 desktop:text-H4 font-bold mt-4 desktop:mt-9"
 id="details_teaser">
 <div class="content-WYSIWYG">
 <div
 class="text-Mobile-C1 desktop:text-H4 font-bold mt-4
 desktop:mt-9">
 <div
 class="content-WYSIWYG">
 <p> </p>
 </div>
 </div>
 </div>
 </div>
URL;VALUE=URI:https://damour.sportsregions.fr/evenements/2026/05/17/plaissan-2438988
END:VEVENT
END:VCALENDAR
