BEGIN:VCALENDAR
VERSION:2.0
PRODID:-//hacksw/handcal//NONSGML v1.0//EN
BEGIN:VEVENT
SUMMARY:Autour de La Couvertoirade et Les Passadous
UID:aec1a81f-f505-4387-b192-35eb4681319e
DTSTART:20260609T070000Z
DTEND:20260609T220000Z
LOCATION:Localisation   
CATEGORIES:Sportif
STATUS:
DESCRIPTION:<p><span style="font-size:18px;"><span><span
 style="font-family:Calibri, sans-serif;">Randonnee de 12,3 km et 180
 m de denivele.</span></span></span></p>
 
 <p><span
 style="font-size:18px;"><span><span style="font-family:Calibri,
 sans-serif;">Deplacement : 73 km
 aller</span></span></span></p>
 
 <p><span
 style="font-size:18px;"><span><span style="font-family:Calibri,
 sans-serif;">Frais de covoiturage : 44 € par
 vehicule</span></span></span></p>
 
 <p><span
 style="font-size:20px;"><span style="color:#e74c3c;"><strong><span
 style="font-family:Calibri, sans-serif;">Rendez-vous parking Auchan
 Celleneuve 9h</span></strong></span></span></p>
 
 <p><em><span
 style="font-size:16px;">Une escapade au dehors de La Couvertoirade,
 dans un paysage agropastoral : ideal pour comprendre le quotidien des
 habitants du village fortifie a l’epoque des Templiers et
 Hospitaliers.</span></em></p>
 
 <p><em><span
 style="font-size:16px;">La montee vers le Larzac permet de replacer
 le joyau de La Couvertoirade dans son ecrin naturel. Dans un decor
 aride faconne par l’elevage ovin, les lavognes (abreuvoirs) et
 toits-citernes temoignent d’une architecture caussenarde dediee a
 la canalisation de l’eau. </span></em></p>
 
 <p><em><span
 style="font-size:16px;">Le circuit des Passadous permet de decouvrir
 le patrimoine lie a l'agropastoralisme (cazelle (capitelle),
 buissiere, clapas...) et de profiter de beaux panoramas sur les
 Cevennes,  les gorges de la Virenque et  celles de la
 Vis.</span></em></p>
URL;VALUE=URI:https://damour.sportsregions.fr/evenements/2026/06/09/autour-de-la-couvertoirade-et-les-passadous-2426489
END:VEVENT
END:VCALENDAR
