BEGIN:VCALENDAR
VERSION:2.0
PRODID:-//hacksw/handcal//NONSGML v1.0//EN
BEGIN:VEVENT
SUMMARY:CAMPLONG : l'Arboretum de l'Espaze
UID:c06f4ea5-0089-46ac-8ad9-52299a4d1b51
DTSTART:20260614T070000Z
DTEND:20260614T220000Z
LOCATION:Localisation   
CATEGORIES:Sportif
STATUS:
DESCRIPTION:<p><span style="font-size:18px;"><span><span
 style="font-family:Calibri, sans-serif;">Randonnee de 12 km et 450 m
 de denivele.</span></span></span></p>
 
 <p><span
 style="font-size:18px;"><span><span style="font-family:Calibri,
 sans-serif;">Deplacement : 76 km
 aller</span></span></span></p>
 
 <p><span
 style="font-size:18px;"><span><span style="font-family:Calibri,
 sans-serif;">Frais de covoiturage : 46 € par
 vehicule</span></span></span></p>
 
 <p><span
 style="font-size:20px;"><span style="color:#e74c3c;"><strong><span
 style="font-family:Calibri, sans-serif;">Rendez-vous parking Auchan
 Celleneuve 9h</span></strong></span></span></p>
 
 <div
 class="text-Mobile-C1 desktop:text-H4 font-bold mt-4 desktop:mt-9"
 id="details_teaser">
 <div class="content-WYSIWYG">
 <div
 class="text-Mobile-C1 desktop:text-H4 font-bold mt-4
 desktop:mt-9">
 <div class="content-WYSIWYG">
 <p><em><span
 style="font-size:16px;">Dans un site recule et peu frequente, vous
 passerez de vallons en cretes, au coeur de la foret domaniale des
 Monts-d’Orb, renommee pour ses plantations de pins laricio
 originaires de Corse.</span></em></p>
 </div>
 </div>
 </div>
 </div>
URL;VALUE=URI:https://damour.sportsregions.fr/evenements/2026/06/14/camplong-larboretum-de-lespaze-2426483
END:VEVENT
END:VCALENDAR
